BEGIN:VCALENDAR
VERSION:2.0
PRODID:-//Goodlife Programs &amp; Activities - ECPv6.15.18//NONSGML v1.0//EN
CALSCALE:GREGORIAN
METHOD:PUBLISH
X-WR-CALNAME:Goodlife Programs &amp; Activities
X-ORIGINAL-URL:https://www.goodlifenh.org
X-WR-CALDESC:Events for Goodlife Programs &amp; Activities
REFRESH-INTERVAL;VALUE=DURATION:PT1H
X-Robots-Tag:noindex
X-PUBLISHED-TTL:PT1H
BEGIN:VTIMEZONE
TZID:America/New_York
BEGIN:DAYLIGHT
TZOFFSETFROM:-0500
TZOFFSETTO:-0400
TZNAME:EDT
DTSTART:20250309T070000
END:DAYLIGHT
BEGIN:STANDARD
TZOFFSETFROM:-0400
TZOFFSETTO:-0500
TZNAME:EST
DTSTART:20251102T060000
END:STANDARD
BEGIN:DAYLIGHT
TZOFFSETFROM:-0500
TZOFFSETTO:-0400
TZNAME:EDT
DTSTART:20260308T070000
END:DAYLIGHT
BEGIN:STANDARD
TZOFFSETFROM:-0400
TZOFFSETTO:-0500
TZNAME:EST
DTSTART:20261101T060000
END:STANDARD
BEGIN:DAYLIGHT
TZOFFSETFROM:-0500
TZOFFSETTO:-0400
TZNAME:EDT
DTSTART:20270314T070000
END:DAYLIGHT
BEGIN:STANDARD
TZOFFSETFROM:-0400
TZOFFSETTO:-0500
TZNAME:EST
DTSTART:20271107T060000
END:STANDARD
END:VTIMEZONE
BEGIN:VEVENT
DTSTART;TZID=America/New_York:20260511T143000
DTEND;TZID=America/New_York:20260511T153000
DTSTAMP:20260419T115829
CREATED:20260316T155557Z
LAST-MODIFIED:20260316T182748Z
UID:10008245-1778509800-1778513400@www.goodlifenh.org
SUMMARY:Fundamentals of Estate Planning
DESCRIPTION:Presenter: Timothy A. Sorenson\nDate/Time: Monday\, May 11\, 2:30-3:30pm\nCost/Registration: FREE! You must register by May 8th at 12pm. GoodLife will email you the Zoom the business day before the class. \n***This class is being held both in-person and live via Zoom*** \nTim will provide an overview of an estate plan’s core components. He will highlight the key details to be considered by individuals and families in shaping the estate plan. He will share practical advice for avoiding probate and streamlining both the estate planning process and estate administration. Light refreshments will be served.
URL:https://www.goodlifenh.org/activity/fundamentals-of-estate-planning/
CATEGORIES:Events
END:VEVENT
END:VCALENDAR