BEGIN:VCALENDAR
VERSION:2.0
PRODID:-//Goodlife Programs &amp; Activities - ECPv6.15.18//NONSGML v1.0//EN
CALSCALE:GREGORIAN
METHOD:PUBLISH
X-ORIGINAL-URL:https://www.goodlifenh.org
X-WR-CALDESC:Events for Goodlife Programs &amp; Activities
REFRESH-INTERVAL;VALUE=DURATION:PT1H
X-Robots-Tag:noindex
X-PUBLISHED-TTL:PT1H
BEGIN:VTIMEZONE
TZID:America/New_York
BEGIN:DAYLIGHT
TZOFFSETFROM:-0500
TZOFFSETTO:-0400
TZNAME:EDT
DTSTART:20250309T070000
END:DAYLIGHT
BEGIN:STANDARD
TZOFFSETFROM:-0400
TZOFFSETTO:-0500
TZNAME:EST
DTSTART:20251102T060000
END:STANDARD
BEGIN:DAYLIGHT
TZOFFSETFROM:-0500
TZOFFSETTO:-0400
TZNAME:EDT
DTSTART:20260308T070000
END:DAYLIGHT
BEGIN:STANDARD
TZOFFSETFROM:-0400
TZOFFSETTO:-0500
TZNAME:EST
DTSTART:20261101T060000
END:STANDARD
BEGIN:DAYLIGHT
TZOFFSETFROM:-0500
TZOFFSETTO:-0400
TZNAME:EDT
DTSTART:20270314T070000
END:DAYLIGHT
BEGIN:STANDARD
TZOFFSETFROM:-0400
TZOFFSETTO:-0500
TZNAME:EST
DTSTART:20271107T060000
END:STANDARD
END:VTIMEZONE
BEGIN:VEVENT
DTSTART;TZID=America/New_York:20260513T090000
DTEND;TZID=America/New_York:20260513T100000
DTSTAMP:20260422T115346
CREATED:20260311T190406Z
LAST-MODIFIED:20260311T190406Z
UID:10008074-1778662800-1778666400@www.goodlifenh.org
SUMMARY:Dance Fitness
DESCRIPTION:Instructor: Erica Mumford\, CPT\nDate/Time: Wednesdays\, May 6- June 24\, 9-9:55am\nCost/Registration: $55. You must register in advance. \n***This class is in-person only*** \nCome enjoy the benefits of a fun cardio workout while moving to music. Time will fly by as we step\, tap\, sway\, mamba\, dance\, and strike a pose. Let the music move you! All levels welcome!
URL:https://www.goodlifenh.org/activity/dance-fitness-21/2026-05-13/
CATEGORIES:Classes
END:VEVENT
END:VCALENDAR