BEGIN:VCALENDAR
VERSION:2.0
PRODID:-//Goodlife Programs &amp; Activities - ECPv6.15.18//NONSGML v1.0//EN
CALSCALE:GREGORIAN
METHOD:PUBLISH
X-ORIGINAL-URL:https://www.goodlifenh.org
X-WR-CALDESC:Events for Goodlife Programs &amp; Activities
REFRESH-INTERVAL;VALUE=DURATION:PT1H
X-Robots-Tag:noindex
X-PUBLISHED-TTL:PT1H
BEGIN:VTIMEZONE
TZID:America/New_York
BEGIN:DAYLIGHT
TZOFFSETFROM:-0500
TZOFFSETTO:-0400
TZNAME:EDT
DTSTART:20250309T070000
END:DAYLIGHT
BEGIN:STANDARD
TZOFFSETFROM:-0400
TZOFFSETTO:-0500
TZNAME:EST
DTSTART:20251102T060000
END:STANDARD
BEGIN:DAYLIGHT
TZOFFSETFROM:-0500
TZOFFSETTO:-0400
TZNAME:EDT
DTSTART:20260308T070000
END:DAYLIGHT
BEGIN:STANDARD
TZOFFSETFROM:-0400
TZOFFSETTO:-0500
TZNAME:EST
DTSTART:20261101T060000
END:STANDARD
BEGIN:DAYLIGHT
TZOFFSETFROM:-0500
TZOFFSETTO:-0400
TZNAME:EDT
DTSTART:20270314T070000
END:DAYLIGHT
BEGIN:STANDARD
TZOFFSETFROM:-0400
TZOFFSETTO:-0500
TZNAME:EST
DTSTART:20271107T060000
END:STANDARD
END:VTIMEZONE
BEGIN:VEVENT
DTSTART;TZID=America/New_York:20260515T090000
DTEND;TZID=America/New_York:20260515T100000
DTSTAMP:20260425T085254
CREATED:20260311T195037Z
LAST-MODIFIED:20260311T195037Z
UID:10008171-1778835600-1778839200@www.goodlifenh.org
SUMMARY:Core & More
DESCRIPTION:Instructor: Adriana Grillo\, CPT\nDate/Time: Fridays\, April 17- June 26\, 9-9:55am (no class 5/1\, 5/8\, 6/19)\nCost/Registration: $55. You must register in advance. \n***This class is in-person only*** \nBuild strength\, improve balance\, and keep your body moving with this fun and functional workout designed for active older adults. This low-impact class focuses on strengthening your core while incorporating exercises to improve posture\, stability\, and flexibility. All movements can be performed standing or seated\, making it accessible for every fitness level. Light weights\, resistance bands\, and gentle bodyweight exercises are used to help you move confidently in daily life while keeping your joints happy.
URL:https://www.goodlifenh.org/activity/core-more-6/2026-05-15/
CATEGORIES:Classes
END:VEVENT
END:VCALENDAR