BEGIN:VCALENDAR
VERSION:2.0
PRODID:-//Goodlife Programs &amp; Activities - ECPv6.15.18//NONSGML v1.0//EN
CALSCALE:GREGORIAN
METHOD:PUBLISH
X-WR-CALNAME:Goodlife Programs &amp; Activities
X-ORIGINAL-URL:https://www.goodlifenh.org
X-WR-CALDESC:Events for Goodlife Programs &amp; Activities
REFRESH-INTERVAL;VALUE=DURATION:PT1H
X-Robots-Tag:noindex
X-PUBLISHED-TTL:PT1H
BEGIN:VTIMEZONE
TZID:America/New_York
BEGIN:DAYLIGHT
TZOFFSETFROM:-0500
TZOFFSETTO:-0400
TZNAME:EDT
DTSTART:20250309T070000
END:DAYLIGHT
BEGIN:STANDARD
TZOFFSETFROM:-0400
TZOFFSETTO:-0500
TZNAME:EST
DTSTART:20251102T060000
END:STANDARD
BEGIN:DAYLIGHT
TZOFFSETFROM:-0500
TZOFFSETTO:-0400
TZNAME:EDT
DTSTART:20260308T070000
END:DAYLIGHT
BEGIN:STANDARD
TZOFFSETFROM:-0400
TZOFFSETTO:-0500
TZNAME:EST
DTSTART:20261101T060000
END:STANDARD
BEGIN:DAYLIGHT
TZOFFSETFROM:-0500
TZOFFSETTO:-0400
TZNAME:EDT
DTSTART:20270314T070000
END:DAYLIGHT
BEGIN:STANDARD
TZOFFSETFROM:-0400
TZOFFSETTO:-0500
TZNAME:EST
DTSTART:20271107T060000
END:STANDARD
END:VTIMEZONE
BEGIN:VEVENT
DTSTART;TZID=America/New_York:20260519T111500
DTEND;TZID=America/New_York:20260519T121500
DTSTAMP:20260422T180744
CREATED:20260311T185516Z
LAST-MODIFIED:20260311T185516Z
UID:10008050-1779189300-1779192900@www.goodlifenh.org
SUMMARY:Tai Chi and Chi Kung
DESCRIPTION:Instructor: Richard Ellis\nDate/Time: Tuesdays\, May 12-June 30\, 11:15am-12:10pm\nCost/Registration: $55. You must register in advance. \n***This class will be held in-person only*** \nTai Chi employs breathing techniques\, postures\, movement and meditation to strengthen and increase the flow of blood and vital life force (Chi) throughout the body. This ancient Tai Chi short form is a slow\, meditation in motion workout; graceful and yet powerful. Good for beginners and experienced practitioners. Benefits include: – Integration of mind\, body and spirit – Stretches and tones all muscles\, connective tissue and increase musculoskeletal health – Slims the body and improves stamina – Counteracts the effects of aging – leads to stress management and relaxation and an overall feeling of wellbeing.
URL:https://www.goodlifenh.org/activity/tai-chi-and-chi-kung-20/2026-05-19/
CATEGORIES:Classes
END:VEVENT
END:VCALENDAR