BEGIN:VCALENDAR
VERSION:2.0
PRODID:-//Goodlife Programs &amp; Activities - ECPv6.15.18//NONSGML v1.0//EN
CALSCALE:GREGORIAN
METHOD:PUBLISH
X-ORIGINAL-URL:https://www.goodlifenh.org
X-WR-CALDESC:Events for Goodlife Programs &amp; Activities
REFRESH-INTERVAL;VALUE=DURATION:PT1H
X-Robots-Tag:noindex
X-PUBLISHED-TTL:PT1H
BEGIN:VTIMEZONE
TZID:America/New_York
BEGIN:DAYLIGHT
TZOFFSETFROM:-0500
TZOFFSETTO:-0400
TZNAME:EDT
DTSTART:20250309T070000
END:DAYLIGHT
BEGIN:STANDARD
TZOFFSETFROM:-0400
TZOFFSETTO:-0500
TZNAME:EST
DTSTART:20251102T060000
END:STANDARD
BEGIN:DAYLIGHT
TZOFFSETFROM:-0500
TZOFFSETTO:-0400
TZNAME:EDT
DTSTART:20260308T070000
END:DAYLIGHT
BEGIN:STANDARD
TZOFFSETFROM:-0400
TZOFFSETTO:-0500
TZNAME:EST
DTSTART:20261101T060000
END:STANDARD
BEGIN:DAYLIGHT
TZOFFSETFROM:-0500
TZOFFSETTO:-0400
TZNAME:EDT
DTSTART:20270314T070000
END:DAYLIGHT
BEGIN:STANDARD
TZOFFSETFROM:-0400
TZOFFSETTO:-0500
TZNAME:EST
DTSTART:20271107T060000
END:STANDARD
END:VTIMEZONE
BEGIN:VEVENT
DTSTART;TZID=America/New_York:20260521T150000
DTEND;TZID=America/New_York:20260521T160000
DTSTAMP:20260419T085225
CREATED:20260312T161556Z
LAST-MODIFIED:20260413T150521Z
UID:10008186-1779375600-1779379200@www.goodlifenh.org
SUMMARY:Indoor Chair Volleyball
DESCRIPTION:***Canceled***\nPresenter: GoodLife\nDate/Time: Thursday\, May 21\, 3- 4pm\nCost/Registration: FREE! You must register in advance. \n***This is an in-person event*** \nIndoor chair volleyball is fun and easy\, plus is good exercise. You will use a beach ball all volleyball rules apply. We need a minimum of 14 to run the class.
URL:https://www.goodlifenh.org/activity/indoor-chair-volleyball-20/
CATEGORIES:Classes
END:VEVENT
END:VCALENDAR