BEGIN:VCALENDAR
VERSION:2.0
PRODID:-//Goodlife Programs &amp; Activities - ECPv6.15.18//NONSGML v1.0//EN
CALSCALE:GREGORIAN
METHOD:PUBLISH
X-ORIGINAL-URL:https://www.goodlifenh.org
X-WR-CALDESC:Events for Goodlife Programs &amp; Activities
REFRESH-INTERVAL;VALUE=DURATION:PT1H
X-Robots-Tag:noindex
X-PUBLISHED-TTL:PT1H
BEGIN:VTIMEZONE
TZID:America/New_York
BEGIN:DAYLIGHT
TZOFFSETFROM:-0500
TZOFFSETTO:-0400
TZNAME:EDT
DTSTART:20250309T070000
END:DAYLIGHT
BEGIN:STANDARD
TZOFFSETFROM:-0400
TZOFFSETTO:-0500
TZNAME:EST
DTSTART:20251102T060000
END:STANDARD
BEGIN:DAYLIGHT
TZOFFSETFROM:-0500
TZOFFSETTO:-0400
TZNAME:EDT
DTSTART:20260308T070000
END:DAYLIGHT
BEGIN:STANDARD
TZOFFSETFROM:-0400
TZOFFSETTO:-0500
TZNAME:EST
DTSTART:20261101T060000
END:STANDARD
BEGIN:DAYLIGHT
TZOFFSETFROM:-0500
TZOFFSETTO:-0400
TZNAME:EDT
DTSTART:20270314T070000
END:DAYLIGHT
BEGIN:STANDARD
TZOFFSETFROM:-0400
TZOFFSETTO:-0500
TZNAME:EST
DTSTART:20271107T060000
END:STANDARD
END:VTIMEZONE
BEGIN:VEVENT
DTSTART;TZID=America/New_York:20260526T100000
DTEND;TZID=America/New_York:20260526T110000
DTSTAMP:20260419T125946
CREATED:20260316T134016Z
LAST-MODIFIED:20260316T134016Z
UID:10008218-1779789600-1779793200@www.goodlifenh.org
SUMMARY:Milkweed Walk
DESCRIPTION:Instructor: Linden Rayton\, Living Water Nature Programs\nDate/Time: Tuesday\, May 26\, 10:00-11:00am\nCost/Registration: $20. You must register in advance. 15 participants max.\nLocation: Jim Hill Riverwalk\, Concord \n***This class is in-person only*** \nMilkweed is famous as the only source of food for the monarch butterfly caterpillar. But milkweed is also interesting- and delicious- as an easy spring wild edible plant! Learn how to ID milkweed\, how to forage it safely\, and cook up a small batch to taste test on the trail.
URL:https://www.goodlifenh.org/activity/milkweed-walk/
CATEGORIES:Events
END:VEVENT
END:VCALENDAR