BEGIN:VCALENDAR
VERSION:2.0
PRODID:-//Goodlife Programs &amp; Activities - ECPv6.15.18//NONSGML v1.0//EN
CALSCALE:GREGORIAN
METHOD:PUBLISH
X-ORIGINAL-URL:https://www.goodlifenh.org
X-WR-CALDESC:Events for Goodlife Programs &amp; Activities
REFRESH-INTERVAL;VALUE=DURATION:PT1H
X-Robots-Tag:noindex
X-PUBLISHED-TTL:PT1H
BEGIN:VTIMEZONE
TZID:America/New_York
BEGIN:DAYLIGHT
TZOFFSETFROM:-0500
TZOFFSETTO:-0400
TZNAME:EDT
DTSTART:20250309T070000
END:DAYLIGHT
BEGIN:STANDARD
TZOFFSETFROM:-0400
TZOFFSETTO:-0500
TZNAME:EST
DTSTART:20251102T060000
END:STANDARD
BEGIN:DAYLIGHT
TZOFFSETFROM:-0500
TZOFFSETTO:-0400
TZNAME:EDT
DTSTART:20260308T070000
END:DAYLIGHT
BEGIN:STANDARD
TZOFFSETFROM:-0400
TZOFFSETTO:-0500
TZNAME:EST
DTSTART:20261101T060000
END:STANDARD
BEGIN:DAYLIGHT
TZOFFSETFROM:-0500
TZOFFSETTO:-0400
TZNAME:EDT
DTSTART:20270314T070000
END:DAYLIGHT
BEGIN:STANDARD
TZOFFSETFROM:-0400
TZOFFSETTO:-0500
TZNAME:EST
DTSTART:20271107T060000
END:STANDARD
END:VTIMEZONE
BEGIN:VEVENT
DTSTART;TZID=America/New_York:20260602T090000
DTEND;TZID=America/New_York:20260602T100000
DTSTAMP:20260419T113557
CREATED:20260311T184211Z
LAST-MODIFIED:20260311T184211Z
UID:10008025-1780390800-1780394400@www.goodlifenh.org
SUMMARY:Stretching for Mobility
DESCRIPTION:Instructor: Carol Ellis\nDate/Time: Tuesdays\, June 2-July 21\, 9-9:55am\nCost/Registration: $55. You must register in advance. \n***This class will be held in-person only*** \nWe will be using a variety of movements to impact the body’s connective tissue by releasing tension\, hydrating\, stimulating\, and rejuvenating connective tissue through static floor postures allowing you the space to explore and experience a movement with curiosity\, mindfulness\, and self-care through stillness and receptivity. Mat based class. Students will need to bring a yoga mat\, (if students have yoga blocks\, they may be useful for some poses.)
URL:https://www.goodlifenh.org/activity/stretching-for-mobility-5/
CATEGORIES:Classes
END:VEVENT
BEGIN:VEVENT
DTSTART;TZID=America/New_York:20260602T101500
DTEND;TZID=America/New_York:20260602T111500
DTSTAMP:20260419T113557
CREATED:20260311T185047Z
LAST-MODIFIED:20260311T185047Z
UID:10008042-1780395300-1780398900@www.goodlifenh.org
SUMMARY:Pilates for 50+
DESCRIPTION:Instructor: Jill Smith\, CPT\nDate/Time: Tuesdays\, May 26- July 14\, 10:15-11:10am\nCost/Registration: $55. You must register in advance. \n***This class is in-person only*** \nThis class uses the Pilates technique for added resistance to increase strength and flexibility. The routine involves standing and chair work. Try this unique Pilates based workout.
URL:https://www.goodlifenh.org/activity/pilates-for-50-44/2026-06-02/
CATEGORIES:Classes
END:VEVENT
END:VCALENDAR