BEGIN:VCALENDAR
VERSION:2.0
PRODID:-//Goodlife Programs &amp; Activities - ECPv6.15.18//NONSGML v1.0//EN
CALSCALE:GREGORIAN
METHOD:PUBLISH
X-ORIGINAL-URL:https://www.goodlifenh.org
X-WR-CALDESC:Events for Goodlife Programs &amp; Activities
REFRESH-INTERVAL;VALUE=DURATION:PT1H
X-Robots-Tag:noindex
X-PUBLISHED-TTL:PT1H
BEGIN:VTIMEZONE
TZID:America/New_York
BEGIN:DAYLIGHT
TZOFFSETFROM:-0500
TZOFFSETTO:-0400
TZNAME:EDT
DTSTART:20250309T070000
END:DAYLIGHT
BEGIN:STANDARD
TZOFFSETFROM:-0400
TZOFFSETTO:-0500
TZNAME:EST
DTSTART:20251102T060000
END:STANDARD
BEGIN:DAYLIGHT
TZOFFSETFROM:-0500
TZOFFSETTO:-0400
TZNAME:EDT
DTSTART:20260308T070000
END:DAYLIGHT
BEGIN:STANDARD
TZOFFSETFROM:-0400
TZOFFSETTO:-0500
TZNAME:EST
DTSTART:20261101T060000
END:STANDARD
BEGIN:DAYLIGHT
TZOFFSETFROM:-0500
TZOFFSETTO:-0400
TZNAME:EDT
DTSTART:20270314T070000
END:DAYLIGHT
BEGIN:STANDARD
TZOFFSETFROM:-0400
TZOFFSETTO:-0500
TZNAME:EST
DTSTART:20271107T060000
END:STANDARD
END:VTIMEZONE
BEGIN:VEVENT
DTSTART;TZID=America/New_York:20260610T111500
DTEND;TZID=America/New_York:20260610T120000
DTSTAMP:20260419T142301
CREATED:20260311T191747Z
LAST-MODIFIED:20260311T191747Z
UID:10008098-1781090100-1781092800@www.goodlifenh.org
SUMMARY:Natural Balance
DESCRIPTION:Instructor: Cindy Falabella\, M. Ed\nDate/Time: Wednesdays\, June 3- July 22\, 11:15am-12pm\nCost/Registration: $55. You must register in advance. \n***This class will be held in-person only*** \nThis class combines a variety of gentle yoga and Tai Chi exercises for stability\, strength\, flexibility\, and balance. The class will include chair and standing exercises.
URL:https://www.goodlifenh.org/activity/natural-balance-8/2026-06-10/
CATEGORIES:Classes
END:VEVENT
BEGIN:VEVENT
DTSTART;TZID=America/New_York:20260610T133000
DTEND;TZID=America/New_York:20260610T153000
DTSTAMP:20260419T142301
CREATED:20260316T152946Z
LAST-MODIFIED:20260316T152946Z
UID:10008242-1781098200-1781105400@www.goodlifenh.org
SUMMARY:Water Lilies
DESCRIPTION:Presenter: Steve Pascucci\nDate/Time: Wednesday\, June 10\, 1:30-3:30pm\nCost/Registration: $35. You must register by June 9th at 8am. All supplies included. \n***This is an in-person event*** \nSpend a few hours dreaming about your mountain cabin (even if it’s only on canvas) Learn this fun technique where no experience is necessary.
URL:https://www.goodlifenh.org/activity/water-lilies/
CATEGORIES:Art
END:VEVENT
END:VCALENDAR