BEGIN:VCALENDAR
VERSION:2.0
PRODID:-//Goodlife Programs &amp; Activities - ECPv6.15.18//NONSGML v1.0//EN
CALSCALE:GREGORIAN
METHOD:PUBLISH
X-WR-CALNAME:Goodlife Programs &amp; Activities
X-ORIGINAL-URL:https://www.goodlifenh.org
X-WR-CALDESC:Events for Goodlife Programs &amp; Activities
REFRESH-INTERVAL;VALUE=DURATION:PT1H
X-Robots-Tag:noindex
X-PUBLISHED-TTL:PT1H
BEGIN:VTIMEZONE
TZID:America/New_York
BEGIN:DAYLIGHT
TZOFFSETFROM:-0500
TZOFFSETTO:-0400
TZNAME:EDT
DTSTART:20250309T070000
END:DAYLIGHT
BEGIN:STANDARD
TZOFFSETFROM:-0400
TZOFFSETTO:-0500
TZNAME:EST
DTSTART:20251102T060000
END:STANDARD
BEGIN:DAYLIGHT
TZOFFSETFROM:-0500
TZOFFSETTO:-0400
TZNAME:EDT
DTSTART:20260308T070000
END:DAYLIGHT
BEGIN:STANDARD
TZOFFSETFROM:-0400
TZOFFSETTO:-0500
TZNAME:EST
DTSTART:20261101T060000
END:STANDARD
BEGIN:DAYLIGHT
TZOFFSETFROM:-0500
TZOFFSETTO:-0400
TZNAME:EDT
DTSTART:20270314T070000
END:DAYLIGHT
BEGIN:STANDARD
TZOFFSETFROM:-0400
TZOFFSETTO:-0500
TZNAME:EST
DTSTART:20271107T060000
END:STANDARD
END:VTIMEZONE
BEGIN:VEVENT
DTSTART;TZID=America/New_York:20260210T160000
DTEND;TZID=America/New_York:20260210T170000
DTSTAMP:20260419T155154
CREATED:20251218T154806Z
LAST-MODIFIED:20260129T152642Z
UID:10007751-1770739200-1770742800@www.goodlifenh.org
SUMMARY:2026 Cruise Informational Presentation
DESCRIPTION:***Canceled. Call Susan Barry with cruise questions!*** \nPresenter: Susan Barry\, Barry Brokerage\nDate/Time: Tuesday\, February 10\, 4-5pm\nCost/Registration: FREE! You must register in advance. \n***This class is being held in-person only*** \nNorwegian Cruise Line Boston to Bermuda\nMay 3-10\, 2026\nLet’s go to Bermuda! From the historic streets of Boston to the pink sand beaches of Bermuda\, enjoy an incredible 7-day journey aboard Norwegian Breakaway. Follow the Freedom Trail and stop at historic taverns along the way in Beantown. Then in Halifax\, enjoy a commanding view of the harbor from the 19th century fort on Citadel Hill. With two days at the Royal Naval Dockyard\, you’ll have plenty of time to play a round of golf on Bermuda’s famous Port Royal Golf Course and enjoy a sunset sail on a glass-bottom boat. \nHolland America Cruise Line: Canada & New England\nOctober 3-10\, 2026\nCruise to Canada’s dynamic cities and Maine’s alluring ports roundtrip from Boston. Halifax’s tunning waterfront\, Sydney’s giant fiddle and Portland’s eclectic boutiques await on this 7-day cruise out of Boston. \nPrincess Alaskan Cruise\nMay 9-16\, 2026\nWe will be going on a 7-day round trip cruise with Princess Cruises from Seattle\, WA! Join us on their ship the Royal Princess where you’ll enjoy more living space\, wonderfully enhanced amenities and a culinary journey at sea that will reach new heights with an abundance of fresh restaurant choices and dining options aboard. From revitalized top deck venues to brand new casual restaurants\, there’s something for every palate. The trip includes stops at five different ports\, including Glacier Bay National Park.
URL:https://www.goodlifenh.org/activity/2026-cruise-informational-presentation-6/
CATEGORIES:Trips
END:VEVENT
END:VCALENDAR