BEGIN:VCALENDAR
VERSION:2.0
PRODID:-//Goodlife Programs &amp; Activities - ECPv6.15.18//NONSGML v1.0//EN
CALSCALE:GREGORIAN
METHOD:PUBLISH
X-ORIGINAL-URL:https://www.goodlifenh.org
X-WR-CALDESC:Events for Goodlife Programs &amp; Activities
REFRESH-INTERVAL;VALUE=DURATION:PT1H
X-Robots-Tag:noindex
X-PUBLISHED-TTL:PT1H
BEGIN:VTIMEZONE
TZID:America/New_York
BEGIN:DAYLIGHT
TZOFFSETFROM:-0500
TZOFFSETTO:-0400
TZNAME:EDT
DTSTART:20210314T070000
END:DAYLIGHT
BEGIN:STANDARD
TZOFFSETFROM:-0400
TZOFFSETTO:-0500
TZNAME:EST
DTSTART:20211107T060000
END:STANDARD
BEGIN:DAYLIGHT
TZOFFSETFROM:-0500
TZOFFSETTO:-0400
TZNAME:EDT
DTSTART:20220313T070000
END:DAYLIGHT
BEGIN:STANDARD
TZOFFSETFROM:-0400
TZOFFSETTO:-0500
TZNAME:EST
DTSTART:20221106T060000
END:STANDARD
BEGIN:DAYLIGHT
TZOFFSETFROM:-0500
TZOFFSETTO:-0400
TZNAME:EDT
DTSTART:20230312T070000
END:DAYLIGHT
BEGIN:STANDARD
TZOFFSETFROM:-0400
TZOFFSETTO:-0500
TZNAME:EST
DTSTART:20231105T060000
END:STANDARD
BEGIN:DAYLIGHT
TZOFFSETFROM:-0500
TZOFFSETTO:-0400
TZNAME:EDT
DTSTART:20240310T070000
END:DAYLIGHT
BEGIN:STANDARD
TZOFFSETFROM:-0400
TZOFFSETTO:-0500
TZNAME:EST
DTSTART:20241103T060000
END:STANDARD
END:VTIMEZONE
BEGIN:VEVENT
DTSTART;TZID=America/New_York:20231017T140000
DTEND;TZID=America/New_York:20231017T151500
DTSTAMP:20260424T072714
CREATED:20230516T142235Z
LAST-MODIFIED:20230606T143503Z
UID:10001080-1697551200-1697555700@www.goodlifenh.org
SUMMARY:Collette Tours & Penny Pitou Travel Presents: Spotlight on Tuscany & Memorials of World War II
DESCRIPTION:Presenter: Collette Tours & Penny Pitou Travel\nDate/Time: Tuesday\, October 17\, 2-3:15pm\nCost/Registration: FREE! You must register by October 16th at 12pm. GoodLife will email you the Zoom link a day or two before the class if you are attending via Zoom. \n***This class is being held both in-person and live via Zoom*** \nGoodLife will be hosting TWO international trips with Collette & Penny Pitou in 2024! Join Andrew & Sandy for an informational session\nto learn about these exciting travel opportunities for the coming year. \nSpotlight on Tuscany\nMay 1-May 9\, 2024 \nDiscover the rolling hills of Tuscany\, home to sprawling vineyards\, charming medieval hill towns\, and enchanting cities. Savor a 7-night stay in Montecatini Terme\, the famous resort and spa town. Visit Pisa\, Florence\, and San Gimignano into the Italian countryside. Discover the charming town of Lucca\, Italy’s best-kept secret. Learn about the heroic deeds of WWII at remains of the Gothic Line and visit the Museum of Liberation. Enjoy free time to explore the cultural treasures of Florence. Partake in a Tuscan cooking class. Sample cheese at the farm where it is made. Enjoy fabulous local wines and the region’s famous cuisine. Steeped in history\, culture and legend\, this is Tuscany as you always imagined it. https://gateway.gocollette.com/link/1173903 \nMemorials of WWII\nOctober 18 — October 27\, 2024\nOn the Memorials of World War II featuring the 80th Anniversary of the D-Day Landing tour\, retrace history as you explore the hallowed grounds of the Normandy landing beaches. Visit The D-Day Story Museum and learn about Operation Overlord. In Caen\, France\, experience the Caen Peace Memorial Museum that vividly documents the causes and consequences of WWII. From the Vel d’Hiv\, Hôtel de Ville\, Les Invalides\, Panthéon\, and the Luxembourg Gardens to Le Marais\, see the sites that tell the story of the liberation of Paris and what life was like under the Nazis. https://gateway.gocollette.com/link/1173892
URL:https://www.goodlifenh.org/activity/collette-tours-penny-pitou-travel-presents-spotlight-on-tuscany-memorials-of-world-war-ii/
CATEGORIES:Trips
END:VEVENT
BEGIN:VEVENT
DTSTART;VALUE=DATE:20231005
DTEND;VALUE=DATE:20231006
DTSTAMP:20260424T072714
CREATED:20221221T143527Z
LAST-MODIFIED:20230803T144704Z
UID:10000503-1696464000-1696550399@www.goodlifenh.org
SUMMARY:New Hampshire’s  Turkey Train
DESCRIPTION:***SOLD OUT! Waitlist Only.***\nPresenter: GoodLife and Best of Times Travel\nDate: Thursday\, October 5 (Exact departure and return times will be announced closer to trip date)\nCost: $129\, Includes: Transportation\, Mystery Stop\, Train Ride\, Luncheon on Train\, Meal Tax/Gratuity & Best of Times Travel Tour Host w/ Gratuity\nTrips can be paid for with a check made out to GoodLife or a credit/debit card\nContact: GoodLife Programs & Activities\, Katelyn Patterson-Gagnon\, (603)228-6630 \nJoin us as we travel to central New Hampshire and Lake Winnipesaukee on board our deluxe motorcoach for a day of fun and the wonderful\nsights of Fall Foliage. Enjoy what millions of travelers come to New Hampshire for each year\, the changing of the season and the magnificent fall foliage that can only be seen in New Hampshire. We arrive in Meredith\, NH on the shores of Lake Winnipesaukee for the Turkey Train. ALL ABOARD the dining car to enjoy our Turkey luncheon provided by Hart’s Turkey Farm. Our meal includes Roast Turkey\, whipped potatoes\, butternut squash\, beverage\, and a delicious dessert to top it all off. Take in the foliage as the train rides along the shores of the Lake and through wooded areas to take in the fall foliage. During our adventurous day out we will make a Mystery Stop that is sure to “sweeten your day.” We will depart after our train ride with great memories of this fun day out!
URL:https://www.goodlifenh.org/activity/new-hampshires-turkey-train/
CATEGORIES:Trips
END:VEVENT
BEGIN:VEVENT
DTSTART;VALUE=DATE:20230907
DTEND;VALUE=DATE:20230908
DTSTAMP:20260424T072714
CREATED:20221221T143702Z
LAST-MODIFIED:20230516T191904Z
UID:10000505-1694044800-1694131199@www.goodlifenh.org
SUMMARY:Neil Diamond & Friends
DESCRIPTION:Presenter: GoodLife and Best of Times Travel\nDate: Thursday\, September 7 (Exact departure and return times will be announced closer to trip date)\nCost: $109\, Includes: Transportation\, Lunch\, Show\, Tax & Gratuity\nTrips can be paid for with a check made out to GoodLife or a credit/debit card\nContact: GoodLife Programs & Activities\, Katelyn Patterson-Gagnon\, (603)228-6630 \nExperience some of the greatest hits from some of the greatest entertainers of all time – Neil Diamond & Friends will have you dancing and singing your day away. These performers have amassed almost 300 million records sold worldwide\, over 40 Top 10 Songs\, Dozens of #1\nHits\, Grammy Awards\, induction into the Rock N Roll Hall of Fame and more. The renowned duo JOSAY AND PATTI have been wowing audiences worldwide with their vibrant performances\, garnering acclaim that’s transcends borders. Their original spin on these classic tunes\nis evident from the moment the accomplished guitarist and sultry vocalist hit the stage. It’s no small wonder that they were voted Musicians of the Year by Norwegian Cruise Line. This multi-faceted show is big\, dynamic and thoroughly entertaining. In fact\, at the conclusion of their\nshow\, you’ll be feeling “ So Good\, So Good\, So Good!” This show is being held at Castleton Banquet Center -Windham\, NH. \nPlated Luncheon:\nApple Cranberry Cornbread\nStuffed Chicken Or\nVegetarian Lasagna\nAlso Included: Salad\, Potato\,\nVegetables\, Breads\, D
URL:https://www.goodlifenh.org/activity/neil-diamond-friends/
CATEGORIES:Trips
END:VEVENT
BEGIN:VEVENT
DTSTART;VALUE=DATE:20230904
DTEND;VALUE=DATE:20230905
DTSTAMP:20260424T072714
CREATED:20230202T182428Z
LAST-MODIFIED:20230516T191746Z
UID:10000606-1693785600-1693871999@www.goodlifenh.org
SUMMARY:Shades of Ireland
DESCRIPTION:Dates: August 26 — September 04\, 2023 • 10 Days\nPrices: BEFORE February 27\, 2023:\n$4\,149.00 Double room\n$4\,849.00 Single Room\nPrice includes: Air fare from Boston\, All Accommodations\, 13 Meals\, Excursions listed in the brochure.    \nFrom history-filled Dublin to the rolling green hills and dramatic coast\, experience Ireland’s charms on a journey through the Emerald Isle. Choose how you explore the city of Dublin. Kiss the Blarney Stone at historic Blarney Castle. See Killarney from an Irish jaunting car. Pick from a selection of the best restaurants with our Diner’s Choice program. Experience the world-famous beauty of the Ring of Kerry. See border collies in action during a traditional sheepdog demonstration. Stand in awe at the top of the stunning 700-foot Cliffs of Moher. A vibrant blend of captivating culture and stunning nature\, this is the Ireland you’ve always imagined.  \nFor prices after February 27th and more information\, contact:  \nSandy Delude\n603-856-7362-Direct Line\nSandy@pennypitoutravel.com\nhttps://gateway.gocollette.com/link/1135623
URL:https://www.goodlifenh.org/activity/shades-of-ireland/2023-09-04/
CATEGORIES:Trips
END:VEVENT
BEGIN:VEVENT
DTSTART;VALUE=DATE:20230808
DTEND;VALUE=DATE:20230809
DTSTAMP:20260424T072714
CREATED:20221221T144215Z
LAST-MODIFIED:20230801T142834Z
UID:10000539-1691452800-1691539199@www.goodlifenh.org
SUMMARY:The Corvettes Doo Wop Revue
DESCRIPTION:*** Sold Out. Waitlist Only*** \nPresenter: GoodLife and Best of Times Travel\nDate: Tuesday\, August 8 (Exact departure and return times will be announced closer to trip date)\nCost: $139\, Includes: Transportation\, Plated Lobster Luncheon\, Meal Tax\, Meal Gratuity\, & Show Ticket\nTrips can be paid for with a check made out to GoodLife or a credit/debit card\nContact: GoodLife Programs & Activities\, Katelyn Patterson-Gagnon\, (603)228-6630 \nThe Corvettes Doo Wop Revue is dedicated to preserving and performing the greatest music ever made – the music of the 1950’s Doo Wop\nera. Their incredibly entertaining show and comical stage antics have left many a happy audience screaming for more! In the tradition\nof legendary Doo Wop revivalists Sha Na Na\, every Corvettes show is more than a concert – it’s an all out Doo Wop Celebration! The Corvettes tour nationally with many legendary Doo Wop groups including The Drifters\, The Tokens\, Danny & The Juniors\, The Platters\, The Marvelettes\, The Shangri Las\, The Shirelles\, The Belmonts\, Gary U.S. Bonds\, The DelVikings\, The Teenagers and many more. We are so excited to bring this nationally touring group to our Best of Times Travel stage. Some of the great hits you will hear at a Corvettes Doo Wop Revue show include: Come Go With Me – Little Darlin’ – Whole Lotta Shakin’ Goin’ On – At The Hop – The Twist – Earth Angel – Sea Cruise – Rock Around The Clock – In The Still Of The Night – Runaround Sue – Runaway – Palisades Park – Twistin’ The Night Away – Splish Splash – Shake Rattle & Roll And many more! The show will be held at Fosters in York ME. \nPlated Luncheon Meal Choice:\nWHOLE BOILED 1 1/4 lb. LOBSTER\, Clam\nChowder\, Fresh Steamed Mussels\, Fresh Maine\nClams\, Corn-on-the- Cob\, Potatoes & Onions\,\nBlueberry Cake\, Rolls\, Butter\, & Beverage OR A\n1/2 BBQ CHICKEN is available as a Non Lobster\nAlternative
URL:https://www.goodlifenh.org/activity/the-corvettes-doo-wop-revue/
CATEGORIES:Trips
END:VEVENT
BEGIN:VEVENT
DTSTART;VALUE=DATE:20230727
DTEND;VALUE=DATE:20230728
DTSTAMP:20260424T072714
CREATED:20221221T143220Z
LAST-MODIFIED:20230627T140211Z
UID:10000502-1690416000-1690502399@www.goodlifenh.org
SUMMARY:The Spirit of Boston
DESCRIPTION:*** SOLD OUT. Waitlist Only.*** \nPresenter: GoodLife and Best of Times Travel\nDate: Thursday\, July 27 (Exact departure and return times will be announced closer to trip date)\nCost: $149\, Includes: Transportation\, Cruise\, Luncheon\, Entertainment & Dancing\nTrips can be paid for with a check made out to GoodLife or a credit/debit card\nContact: GoodLife Programs & Activities\, Katelyn Patterson-Gagnon\, (603)228-6630 \nCome aboard and enjoy the most entertaining experience in Boston featuring our luncheon Grande Buffet! This two-hour cruise on Boston’s historic harbor is perfect for an afternoon getaway! One price includes everything except drinks and photos. Bon Voyage! – As the ship pulls away from the dock\, grab your streamers and your drinks and join our Spirit staff in a festive Bon Voyage toast. Bon Appétit – Once you’ve been invited up to our Grande Buffet\, take as little or as much as you like. With choices such as Harvest Salad Station\, Country Farm Potato Salad\, Fresco Tuscany Pasta Salad\, Tilapia Fillet with Lobster Cream Sauce\, Herb-Infused Rotisserie Chicken\, Apricot-Glazed Pork Loin\, Smoked Gouda Mac & Cheese\, Garlic Mashed Potatoes\, Local Harvest Vegetables\, and a Fresh selection of Cakes\, Bars\, Pastries\, Cookies and Seasonal Fruit for dessert* there is sure to be something to please even the most discerning palate. You can even go back for seconds and thirds as long as the buffet is open! Stretch your legs – head topside for the largest outdoor patio deck in Boston and catch a breath of fresh air and an amazing view. Rock ‘til you dock – from line dances to Top-40 hits\, our DJs know how to get everyone up and dancing\, right to the end of your cruise. After our cruise we will depart for Faneuil Hall & Quincy Market. This bustling market place is still as busy as it was in the 1700’s featuring a burgeoning array of shops\, restaurants and outdoor entertainment making it a premiere destination. We will have free time here to explore or shop on our own before our departure home.
URL:https://www.goodlifenh.org/activity/the-spirit-of-boston/
CATEGORIES:Trips
END:VEVENT
BEGIN:VEVENT
DTSTART;TZID=America/New_York:20230621T140000
DTEND;TZID=America/New_York:20230621T153000
DTSTAMP:20260424T072714
CREATED:20230525T170035Z
LAST-MODIFIED:20230612T134405Z
UID:10001184-1687356000-1687361400@www.goodlifenh.org
SUMMARY:Norwegian Cruise Line & Circle Travel Presents: Cruise to Bermuda
DESCRIPTION:Presenter: Norwegian Cruise Line & Circle Travel\nDate/Time: Wednesday\, June 21\, 2-3:30pm\nCost/Registration: FREE! You must register by June 20th at 12pm. GoodLife will email you the Zoom link a day or two before the class if you are attending via Zoom. \n***This class is being held both in-person and live via Zoom*** \nGoodLife is going on a cruise for the first time! Join Matthew from Norwegian Cruise Line and Susan from Circle Travel for this informational session about this 2024 cruise. Bring your questions and love of travel along with you! \n***There will be a raffle for everyone attending. (in-person & via Zoom!)*** \nBermuda Cruise:\nMay 17-24\, 2024\nLet’s go to Bermuda! We will be going on a 7-day round trip cruise with Norwegian Cruise Line to Bermuda leaving right out of Boston\, MA. Join us on their ship Gem tons of dining choices and no set dining times – FREE STYLE. NCL has it all: chill by the pool\, get lucky in the casino\, unwind at the spa. Enjoy British style high tea. Broadway style entertainment and shows. The trip includes two days at sea\, three days docked in Bermuda for you to explore and enjoy local culture and available excursions. We’ll end the trip with a stop in Bar Harbor Maine before bringing you back to Boston.
URL:https://www.goodlifenh.org/activity/norwegian-cruise-line-circle-travel-presents-cruise-to-bermuda/
CATEGORIES:Trips
END:VEVENT
BEGIN:VEVENT
DTSTART;VALUE=DATE:20230615
DTEND;VALUE=DATE:20230616
DTSTAMP:20260424T072714
CREATED:20221221T144004Z
LAST-MODIFIED:20230516T191447Z
UID:10000521-1686787200-1686873599@www.goodlifenh.org
SUMMARY:Niagara Falls
DESCRIPTION:***SOLD OUT***\nPresenter: GoodLife and Best of Times Travel\nDate: June 13- June 15 (Exact departure and return times will be announced closer to trip date)\nCost:$629 Double\, $829 Single\nTrips can be paid for with a check made out to GoodLife or a credit/debit card\nContact: GoodLife Programs & Activities\, Katelyn Patterson-Gagnon\, (603) 228-6630 \nDay 1 – Niagara Falls\, Canada We begin our adventure with an early morning pick-up in your\nlocal town on board a deluxe motorcoach equipped with lavatory. We travel today to Niagara Falls\nwith multiple rest stops enroute. This afternoon we arrive in Niagara Falls and cross the border\ninto Canada. PLEASE NOTE: (passport or passport card is required)Our accommodations are at the Hilton Niagara Falls Fallsview OR the Sheraton Fallsview – both overlooking the Falls. Hilton Niagara Falls Fallsview- This 34 story tower directly overlooks the widely recognized Canadian “Horseshoe” Falls. The property is also attached to the Niagara Fallsview Casino. Sheraton Fallsview – The Hotel is connected to Casino Niagara via indoor walkway and the largest indoor water-park\, hotel\, and entertainment resort in North America; Falls Avenue Resort. Plus they offer a free Casino Shuttle for guests to visit Fallsview Casino Resort if desired. Enjoy some free time this afternoon to enjoy your hotel property. Tonight enjoy a true Canadian treasure The Greg Frewin Dinner & Magic Show! The Greg Frewin illusion spectacle is a quintessential component of a Niagara Falls vacation. Our show is breath-taking with a Vegas style format and features illusions that are both one of a kind and internationally renowned\, performed by the International Grand Champion of Magic\, Greg Frewin – having won every major award offered within the magic community. \nDay 2 – Niagara Falls\, Niagara-on-the-Lake & Vineyard Tour with Tasting – This\nmorning enjoy a Deluxe Full American Buffet Breakfast complete with omelet station and\nmore before embarking on our narrated riding tour of the Niagara Falls area enjoying sights such as the Horseshoe Falls\, Table Rock\, the Floral Clock\, & more. Then its on to Niagara-On-The-Lake\, Canada’s prettiest town. This well preserved 19th century village offers charming restaurants and shops and elegant architecture not to mention an incredible selection of over 27 individual wineries in the area. Enjoy free time to explore downtown and have lunch on your own. We’ll then visit one of the area’s great wineries complete with a tour and tasting\, YUM! We return to Niagara Falls with FREE TIME to explore sights such as Maid of the Mist \, the Skylon Tower with it’s 360 degree observation deck\, or the Imax Theatre on your own. Dinner tonight is on our own. After Dinner enjoy the city at your own pace or try your luck at the casino. Whatever you choose you’re bound to enjoy all the night life Niagara Falls has to offer. \nDay 3 – Cooperstown/Baseball Hall of Fame – This morning enjoy a Deluxe Full American Buffet Breakfast complete with omelet station and more prior to our departure for Cooperstown. Welcome to Cooperstown\, NY where baseball’s past and present unite! Today we pay tribute to our National Pastime by visiting the Baseball Hall of Fame\, an institution which honors excellence\, preserves history and connects generations. We’ll provide time to explore the Hall of Fame\, Doubleday Field and take time to grab a bite to eat in downtown. We’ll depart with rest stop(s) enroute to home with fond memories of our adventure!
URL:https://www.goodlifenh.org/activity/niagara-falls/2023-06-15/
CATEGORIES:Trips
END:VEVENT
BEGIN:VEVENT
DTSTART;VALUE=DATE:20230308
DTEND;VALUE=DATE:20230309
DTSTAMP:20260424T072714
CREATED:20221121T171059Z
LAST-MODIFIED:20230110T200709Z
UID:10000464-1678233600-1678319999@www.goodlifenh.org
SUMMARY:Emmet Cahill's Ireland
DESCRIPTION:Presenter: GoodLife and Best of Times Travel\nDate: Wednesday\, March 8 (Exact departure and return times will be announced closer to trip date)\nCost: $139\, Includes: Transportation\, Plated Luncheon\, Meal Tax & Gratuity\, Show Ticket\nTrips can be paid for with a check made out to GoodLife or a credit/debit card\nContact: GoodLife Programs & Activities\, Katelyn Patterson-Gagnon\, (603)228-6630 \nEmmet\, Irish Tenor & superstar of Celtic Thunder\, takes audiences on a musical journey\, allowing them to connect with their most cherished memories through beautiful songs like Danny Boy\, When Irish Eyes Are Smiling and My Wild Irish Rose\, to name but a few. His powerful classical voice really comes to the fore when performing Broadway hits such as Bring Him Home and Music of The Night as well as tender nostalgic favorites such as Moon River and Some Enchanted Evening. Joined by the Emerald String Quartet and The Dublin City Dancers this show has everything a St. Patrick’s Celebration calls for! The show will be held at Danversport\, Danvers\, MA. \nPlated Luncheon Meal Choice:\nCorned Beef and Cabbage or Baked Schrod\nAlso Included: Salad\, Vegetables\, Breads\,\nDessert\, Coffee and Tea
URL:https://www.goodlifenh.org/activity/emmet-cahills-ireland-superstar-of-celtic-thunder/
CATEGORIES:Trips
END:VEVENT
BEGIN:VEVENT
DTSTART;TZID=America/New_York:20230111T130000
DTEND;TZID=America/New_York:20230111T140000
DTSTAMP:20260424T072714
CREATED:20221116T201406Z
LAST-MODIFIED:20230516T191951Z
UID:10001121-1673442000-1673445600@www.goodlifenh.org
SUMMARY:Collette Tours Presents: Shades of Ireland & California Dreamin'
DESCRIPTION:Presenter: Collette Tours & Penny Pitou Travel\nDate/Time: Wednesday\, January 11\, 1-2pm\nCost/Registration: FREE! You must register by January 10th at 12pm. GoodLife will email you the Zoom link a day or two before the class. \n***Registrations made online will be for live classes via Zoom! To register for in-person attendance\, you MUST call 603-228-6630.*** \nJoin us to talk about a exciting adventure. TRAVEL!! This is an informational presentation of two exciting trips we have scheduled for 2023. \nSHADES OF IRELAND\nAug. 26 – Sept. 4\, 2023\nFrom history-filled Dublin to the rolling green hills and dramatic coast\, experience Ireland’s charms on a journey through the Emerald Isle. Choose how you explore the city of Dublin. Kiss the Blarney Stone at historic Blarney Castle. See Killarney from an Irish jaunting car. Pick from a selection of the best restaurants with our Diner’s Choice program. Experience the world-famous beauty of the Ring of Kerry. See border collies in action during a traditional sheepdog demonstration. Stand in awe at the top of the stunning 700-foot Cliffs of Moher. Live like\nroyalty during an overnight stay on the grounds of a castle. A vibrant blend of captivating culture and stunning nature\, this is the Ireland you’ve always imagined. \nCALIFORNIA DREAMIN’: MONTEREY\, YOSEMITE & NAPA\nOct. 16 – 23\, 2023\nThis is the essence of Northern California\, from fine wine and freshly caught seafood to vibrant cities and nature on an epic scale. Discover Monterey’s Fisherman’s Wharf and Sacramento’s Old Town. Witness the stunning views along 17 Mile Drive. Meet a local farmer and taste his farm’s produce. Marvel at the unspoiled beauty of Yosemite National Park. Glide on the pristine waters of Lake Tahoe on a classic yacht-style vessel. Sip local wines in Napa
URL:https://www.goodlifenh.org/activity/collette-tours-presents-shades-of-ireland-california-dreamin/
CATEGORIES:Trips
END:VEVENT
BEGIN:VEVENT
DTSTART;VALUE=DATE:20221207
DTEND;VALUE=DATE:20221208
DTSTAMP:20260424T072714
CREATED:20220202T163727Z
LAST-MODIFIED:20221025T154744Z
UID:10000188-1670371200-1670457599@www.goodlifenh.org
SUMMARY:Christmas with Paul Anka- Holiday Tribute
DESCRIPTION:Presenter: GoodLife and Best of Times Travel\nDate: Wednesday\, December 7 (Exact departure and return times will be announced closer to trip date)\nCost: $114\, Includes: Transportation\, Plated Luncheon\, Meal Tax & Gratuity\, Show Ticket\nTrips can be paid for with a check made out to GoodLife or a credit/debit card \nContact: GoodLife Programs & Activities\, Katelyn Patterson-Gagnon\, (603)228-6630 \nJoin Best of Times Travel for an incredible Christmas Celebration as Lou Villano brings the music of Paul Anka Live to the stage in Danversport – Danvers\, MA. Anka became famous in the late 1950s\, 1960s\, and 1970s with hit songs like “Diana”\, “Lonely Boy”\, “Put Your Head on My Shoulder”\, and “Having My Baby”. He wrote such well-known music as the theme for The Tonight Show Starring Johnny Carson and one of Tom Jones’s biggest hits\, “She’s a Lady”\, as well as the English lyrics for Frank Sinatra’s signature song\, “My Way”. All The Hits of Paul Anka & More….this dynamic show will feature not only the greatest hits of Paul Anka\, but the chart topping hits he wrote for others such as Buddy Holly\, Frank Sinatra\, Sammy Davis Jr.\, Tom Jones\, Frankie Avalon\, and Bobby Rydell to name just a few. Sprinkle in some of our favorite Holiday songs performed only the way Paul Anka can\, and you have an incredible Holiday Show! It’s a show that you are going to remember as you walk out singing the songs you loved so much by this talented songwriter and singer.
URL:https://www.goodlifenh.org/activity/christmas-with-paul-anka/
CATEGORIES:Trips
END:VEVENT
BEGIN:VEVENT
DTSTART;VALUE=DATE:20221004
DTEND;VALUE=DATE:20221005
DTSTAMP:20260424T072714
CREATED:20220202T163601Z
LAST-MODIFIED:20220907T172933Z
UID:10000025-1664841600-1664927999@www.goodlifenh.org
SUMMARY:Fall Foliage
DESCRIPTION:***SOLD OUT! Wait List Only*** \n\nPresenter: GoodLife and Best of Times Travel\nDate: Tuesday\, October 4 (Exact departure and return times will be announced closer to trip date)\nCost: $149\, Includes: Transportation\, Luncheon\, Meal Tax/Gratuity\, Touring\, & Service of a Best of Times Travel Tour Guide w/Gratuity\nTrips can be paid for with a check made out to GoodLife or a credit/debit card\nContact: GoodLife Programs & Activities\, Katelyn Patterson-Gagnon\, (603)228-6630 \n* Guided Tour and Visit to the Cathedral of the Pines – A place of beauty and inspiration\, the Cathedral is located in the rolling hills of Southwestern New Hampshire (Rindge\, NH) and offers breathtaking vistas of Mount Monadnock. It is an enduring memorial to patriotic service and sacrifice where each of us can personally experience the presence of the Divine – each in her own way. Along with the natural and serene beauty of the Cathedral grounds\, visitors will find many unique stone shrines\, altars and gardens. \n* A Visit to Smith’s Country Cheese – A New England tradition producing outstanding cheeses of all kinds\, Smith’s is located in a picturesque spot in the hills of Winchendon\, MA. We’ll enjoy a short informational tour of the cheese-making process along with a cheese tasting. There is a retail store and gift shop on the premises. \n* A Visit to Red Apple Farm in Phillipston\, MA – This is a farm stand and store full of country goodness and charm. The Red Apple Farm features fresh baked goods\, farm fresh fruits and vegetables and locally made products all in a unique\, charming atmosphere. A wonderful opportunity to bring home unusual and homemade food items. Everyone will receive a gift of the Red Apple’s delicious Apple Dumplings to take home. Plus\, for those interested\, 30-minute hayrides will be available for only $3.00!
URL:https://www.goodlifenh.org/activity/46731/
CATEGORIES:Trips
END:VEVENT
BEGIN:VEVENT
DTSTART;TZID=America/New_York:20220914T130000
DTEND;TZID=America/New_York:20220914T143000
DTSTAMP:20260424T072714
CREATED:20220414T151539Z
LAST-MODIFIED:20220414T154613Z
UID:10000189-1663160400-1663165800@www.goodlifenh.org
SUMMARY:Canterbury Shaker Village: A Cultural Landscape
DESCRIPTION:Presenter: GoodLife Programs & Activities\nDate: Wednesday\, September 14\, 1pm\nCost: $20\, transportation is not included. Everyone will be meeting at Canterbury Shaker Village\, 288 Shaker Rd\, Canterbury\, NH\nContact: Katelyn Patterson Gagnon\, 603-228-6630 \nThis outdoor guided tour highlights the Shakers’ contributions to architectural design\,\nlandscaping\, waterworks\, and masonry. Visitors will examine the landscape around them and learn about the decisions that the Shakers made – from planting maple trees and laying out a productive vegetable garden to building rock walls\, creating an elaborate system of millponds\, and making decisions about the external features of the Village (planting trees\, clearing agricultural ground\, etc.) as well as architectural building style and paint color.
URL:https://www.goodlifenh.org/activity/47584/
CATEGORIES:Trips
END:VEVENT
BEGIN:VEVENT
DTSTART;VALUE=DATE:20220726
DTEND;VALUE=DATE:20220727
DTSTAMP:20260424T072714
CREATED:20220202T163434Z
LAST-MODIFIED:20220420T144251Z
UID:10000240-1658793600-1658879999@www.goodlifenh.org
SUMMARY:Gloucester Harbor Cruise
DESCRIPTION:***SOLD OUT\, Waitlist Only*** \nPresenter: GoodLife and Best of Times Travel\nDate: Tuesday\, July 26 (Exact departure and return times will be announced closer to trip date) \nCost: $159\, Includes: Transportation\, Cruise\, Luncheon\, Entertainment & Dancing\nTrips can be paid for with a check made out to GoodLife or a credit/debit card\nContact: GoodLife Programs & Activities\, Katelyn Patterson-Gagnon\, (603)228-6630 \nCome aboard and join us for a fabulous day out on the water! Berthed at Cruiseport Gloucester\, where the world’s top cruise ships come when they visit Boston’s north shore\, the Beauport Princess is our main destination for the day. When you’re onboard Beauport Princess you’ll cruise historic Gloucester harbor\, full of fishing boats and schooners and witness extraordinary views\, only seen by water\, of the city’s historic skyline\, working waterfront\, iconic Man at the Wheel statue\, Rocky Neck Art Colony\, the famous Greasy Pole\, America’s first lighthouses and more. During our cruise dance to the music of national recording stars on the Beauport Princess stage with top artists from north of Boston’s hottest music scene. The Beauport Princess has two dance floors\, three full-service bars\, an open-air top deck and comfortable\, indoor seating for a great time no matter the weather.
URL:https://www.goodlifenh.org/activity/gloucester-harbor-cruise/
CATEGORIES:Trips
END:VEVENT
END:VCALENDAR