BEGIN:VCALENDAR
VERSION:2.0
PRODID:-//Goodlife Programs &amp; Activities - ECPv6.15.18//NONSGML v1.0//EN
CALSCALE:GREGORIAN
METHOD:PUBLISH
X-ORIGINAL-URL:https://www.goodlifenh.org
X-WR-CALDESC:Events for Goodlife Programs &amp; Activities
REFRESH-INTERVAL;VALUE=DURATION:PT1H
X-Robots-Tag:noindex
X-PUBLISHED-TTL:PT1H
BEGIN:VTIMEZONE
TZID:America/New_York
BEGIN:DAYLIGHT
TZOFFSETFROM:-0500
TZOFFSETTO:-0400
TZNAME:EDT
DTSTART:20250309T070000
END:DAYLIGHT
BEGIN:STANDARD
TZOFFSETFROM:-0400
TZOFFSETTO:-0500
TZNAME:EST
DTSTART:20251102T060000
END:STANDARD
BEGIN:DAYLIGHT
TZOFFSETFROM:-0500
TZOFFSETTO:-0400
TZNAME:EDT
DTSTART:20260308T070000
END:DAYLIGHT
BEGIN:STANDARD
TZOFFSETFROM:-0400
TZOFFSETTO:-0500
TZNAME:EST
DTSTART:20261101T060000
END:STANDARD
BEGIN:DAYLIGHT
TZOFFSETFROM:-0500
TZOFFSETTO:-0400
TZNAME:EDT
DTSTART:20270314T070000
END:DAYLIGHT
BEGIN:STANDARD
TZOFFSETFROM:-0400
TZOFFSETTO:-0500
TZNAME:EST
DTSTART:20271107T060000
END:STANDARD
END:VTIMEZONE
BEGIN:VEVENT
DTSTART;TZID=America/New_York:20260615T090000
DTEND;TZID=America/New_York:20260615T100000
DTSTAMP:20260422T185610
CREATED:20260311T182729Z
LAST-MODIFIED:20260311T182729Z
UID:10007997-1781514000-1781517600@www.goodlifenh.org
SUMMARY:Flowing Movement
DESCRIPTION:Instructor: Carol Ellis\nDate/Time: Mondays\, May 11-July 6\, 9-9:55am (no class 5/25)\nCost/Registration: $55. You must register in advance. \n***This class will be held in-person only*** \nThis movement class will focus on nourishing\, restoring and nurturing the body\, breath\, and spirit through the flowing and fluid movements of qigong. Qigong is the ancient Chinese art and science of becoming aware of our life energy(qi) through a flowing choreography of postures\, movement\, respiratory technique\, and meditations. You will gain better health\, increased vitality\, and leave class with an awakened and peaceful wellbeing!
URL:https://www.goodlifenh.org/activity/flowing-movement-8/2026-06-15/
CATEGORIES:Classes
END:VEVENT
BEGIN:VEVENT
DTSTART;TZID=America/New_York:20260615T101500
DTEND;TZID=America/New_York:20260615T111500
DTSTAMP:20260422T185610
CREATED:20260311T183139Z
LAST-MODIFIED:20260311T183139Z
UID:10008007-1781518500-1781522100@www.goodlifenh.org
SUMMARY:Fitness & Core- Monday
DESCRIPTION:***Time Change***\nInstructor: Jill Smith\, CPT\nDate/Time: Mondays\, April 27-June 22\, 10:15-11:10am (no class 5/25)\nCost/Registration: $55. You must register in advance. \n***This class will be held in-person only*** \nA fitness class for every skill level. This workout focuses on core strength\, flexibility\, and total body conditioning. A perfect mix of body sculpting exercises designed to attain or maintain your healthy physique. You will need to provide weights.
URL:https://www.goodlifenh.org/activity/fitness-core-monday-35/2026-06-15/
CATEGORIES:Classes
END:VEVENT
BEGIN:VEVENT
DTSTART;TZID=America/New_York:20260615T111500
DTEND;TZID=America/New_York:20260615T121500
DTSTAMP:20260422T185610
CREATED:20260311T183604Z
LAST-MODIFIED:20260311T183604Z
UID:10008015-1781522100-1781525700@www.goodlifenh.org
SUMMARY:Yoga for Brunch
DESCRIPTION:***Time Change***\nInstructor: Cindy Falabella\, CYT\, M.Ed.\nDate/Time: Mondays\, April 27-June 22\, 11:15am-12:10pm (no class 5/25)\nCost/Registration: $55. You must register in advance. \n***This class will be held in-person only*** \nTake a mid-day break. This class is a gentle full body stretch to help you decompress\, focus\, and reset. Come as you are\, do some yoga and return to your day. Standing and chair based with modifications for a mat.
URL:https://www.goodlifenh.org/activity/yoga-for-brunch-18/2026-06-15/
CATEGORIES:Classes
END:VEVENT
BEGIN:VEVENT
DTSTART;TZID=America/New_York:20260615T130000
DTEND;TZID=America/New_York:20260615T134500
DTSTAMP:20260422T185610
CREATED:20260316T161923Z
LAST-MODIFIED:20260316T181632Z
UID:10008295-1781528400-1781531100@www.goodlifenh.org
SUMMARY:Stretch & Strengthen
DESCRIPTION:Instructor: Joe Devito\, CPT\nDate/Time: Mondays & Thursdays\, April- June\, 1-1:45pm (No Class 5/25)\nCost: FREE! Drop-in class for up to 30 people. First come first served.  \n***This class is held in-person and live via Zoom. If you need the Zoom information\, please call GoodLife at 603-228-6630*** \nA great beginner class! Stretch your muscles\, increase your coordination\, self-confidence & flexibility with gentle exercise\, stretching and movement. Build up your strength and get healthy. Older adults of all ages and levels of physical ability are encouraged to try this gentle exercise class. You are welcome to use a chair for stability.
URL:https://www.goodlifenh.org/activity/stretch-strengthen-18/2026-06-15/
CATEGORIES:Classes
END:VEVENT
BEGIN:VEVENT
DTSTART;TZID=America/New_York:20260616T090000
DTEND;TZID=America/New_York:20260616T100000
DTSTAMP:20260422T185610
CREATED:20260311T184301Z
LAST-MODIFIED:20260311T184301Z
UID:10008027-1781600400-1781604000@www.goodlifenh.org
SUMMARY:Stretching for Mobility
DESCRIPTION:Instructor: Carol Ellis\nDate/Time: Tuesdays\, June 2-July 21\, 9-9:55am\nCost/Registration: $55. You must register in advance. \n***This class will be held in-person only*** \nWe will be using a variety of movements to impact the body’s connective tissue by releasing tension\, hydrating\, stimulating\, and rejuvenating connective tissue through static floor postures allowing you the space to explore and experience a movement with curiosity\, mindfulness\, and self-care through stillness and receptivity. Mat based class. Students will need to bring a yoga mat\, (if students have yoga blocks\, they may be useful for some poses.)
URL:https://www.goodlifenh.org/activity/stretching-for-mobility-6/2026-06-16/
CATEGORIES:Classes
END:VEVENT
BEGIN:VEVENT
DTSTART;TZID=America/New_York:20260616T101500
DTEND;TZID=America/New_York:20260616T111500
DTSTAMP:20260422T185610
CREATED:20260311T185047Z
LAST-MODIFIED:20260311T185047Z
UID:10008044-1781604900-1781608500@www.goodlifenh.org
SUMMARY:Pilates for 50+
DESCRIPTION:Instructor: Jill Smith\, CPT\nDate/Time: Tuesdays\, May 26- July 14\, 10:15-11:10am\nCost/Registration: $55. You must register in advance. \n***This class is in-person only*** \nThis class uses the Pilates technique for added resistance to increase strength and flexibility. The routine involves standing and chair work. Try this unique Pilates based workout.
URL:https://www.goodlifenh.org/activity/pilates-for-50-44/2026-06-16/
CATEGORIES:Classes
END:VEVENT
BEGIN:VEVENT
DTSTART;TZID=America/New_York:20260616T111500
DTEND;TZID=America/New_York:20260616T121500
DTSTAMP:20260422T185610
CREATED:20260311T185516Z
LAST-MODIFIED:20260311T185516Z
UID:10008054-1781608500-1781612100@www.goodlifenh.org
SUMMARY:Tai Chi and Chi Kung
DESCRIPTION:Instructor: Richard Ellis\nDate/Time: Tuesdays\, May 12-June 30\, 11:15am-12:10pm\nCost/Registration: $55. You must register in advance. \n***This class will be held in-person only*** \nTai Chi employs breathing techniques\, postures\, movement and meditation to strengthen and increase the flow of blood and vital life force (Chi) throughout the body. This ancient Tai Chi short form is a slow\, meditation in motion workout; graceful and yet powerful. Good for beginners and experienced practitioners. Benefits include: – Integration of mind\, body and spirit – Stretches and tones all muscles\, connective tissue and increase musculoskeletal health – Slims the body and improves stamina – Counteracts the effects of aging – leads to stress management and relaxation and an overall feeling of wellbeing.
URL:https://www.goodlifenh.org/activity/tai-chi-and-chi-kung-20/2026-06-16/
CATEGORIES:Classes
END:VEVENT
BEGIN:VEVENT
DTSTART;TZID=America/New_York:20260616T140000
DTEND;TZID=America/New_York:20260616T144500
DTSTAMP:20260422T185610
CREATED:20260316T161627Z
LAST-MODIFIED:20260316T161627Z
UID:10008270-1781618400-1781621100@www.goodlifenh.org
SUMMARY:Chair Yoga
DESCRIPTION:***Time Change***\nInstructor: Cindy Falabella\nDate/Time: Tuesdays & Thursdays\, April- June\, 2-2:45pm\nCost: FREE! Drop-in class for up to 30 people. First come first served.  \n***This class is held in-person and live via Zoom. If you need the Zoom information\, please call GoodLife at 603-228-6630*** \nOlder adults and seniors of all ages\, those with yoga experience or with none\, and all levels of physical ability are encouraged to join us and try this gentle yoga class. Yoga can help your mind\, body and spirit and enhance your quality of life. You are sure to leave calmer\, refreshed and rejuvenated!
URL:https://www.goodlifenh.org/activity/chair-yoga-27/2026-06-16/
CATEGORIES:Classes
END:VEVENT
BEGIN:VEVENT
DTSTART;TZID=America/New_York:20260616T170000
DTEND;TZID=America/New_York:20260616T180000
DTSTAMP:20260422T185610
CREATED:20260311T185836Z
LAST-MODIFIED:20260311T185836Z
UID:10008064-1781629200-1781632800@www.goodlifenh.org
SUMMARY:Yoga for 50+
DESCRIPTION:Instructor: Cindy Falabella\, CYT\, M.Ed.\nDate/Time: Tuesdays\, April 28- June 16\, 5-5:55pm\nCost/Registration: $55. You must register in advance. \n***This class will be held in-person only*** \nYoga is a gentle way to stretch\, strengthen\, build muscular endurance and flexibility\, and relieve stress. We will be learning several classic yoga poses\, as well as focusing on breath work. This moderate level class is great for yogis of all abilities and fitness levels. We will be using modifications to make all feel welcome and comfortable. This is a mat-based class.
URL:https://www.goodlifenh.org/activity/yoga-for-50-43/2026-06-16/
CATEGORIES:Classes
END:VEVENT
BEGIN:VEVENT
DTSTART;TZID=America/New_York:20260617T090000
DTEND;TZID=America/New_York:20260617T100000
DTSTAMP:20260422T185610
CREATED:20260311T190406Z
LAST-MODIFIED:20260311T190406Z
UID:10008079-1781686800-1781690400@www.goodlifenh.org
SUMMARY:Dance Fitness
DESCRIPTION:Instructor: Erica Mumford\, CPT\nDate/Time: Wednesdays\, May 6- June 24\, 9-9:55am\nCost/Registration: $55. You must register in advance. \n***This class is in-person only*** \nCome enjoy the benefits of a fun cardio workout while moving to music. Time will fly by as we step\, tap\, sway\, mamba\, dance\, and strike a pose. Let the music move you! All levels welcome!
URL:https://www.goodlifenh.org/activity/dance-fitness-21/2026-06-17/
CATEGORIES:Classes
END:VEVENT
BEGIN:VEVENT
DTSTART;TZID=America/New_York:20260617T100000
DTEND;TZID=America/New_York:20260617T110000
DTSTAMP:20260422T185610
CREATED:20260311T190952Z
LAST-MODIFIED:20260311T190952Z
UID:10008085-1781690400-1781694000@www.goodlifenh.org
SUMMARY:Cardio for Heart Health
DESCRIPTION:Instructor: Jill Smith\, CPT\nDate/Time: Wednesdays\, May 20-July 8\, 10–10:55am\nCost/Registration: $55. You must register in advance. \n***This class is in-person only*** \nJoin us for this fun class that offers something for everyone\, regardless of your current fitness level. Improve your overall strength\, flexibility\, and balance through low impact cardio exercise.
URL:https://www.goodlifenh.org/activity/cardio-for-heart-health-36/2026-06-17/
CATEGORIES:Classes
END:VEVENT
BEGIN:VEVENT
DTSTART;TZID=America/New_York:20260617T111500
DTEND;TZID=America/New_York:20260617T120000
DTSTAMP:20260422T185610
CREATED:20260311T191747Z
LAST-MODIFIED:20260311T191747Z
UID:10008099-1781694900-1781697600@www.goodlifenh.org
SUMMARY:Natural Balance
DESCRIPTION:Instructor: Cindy Falabella\, M. Ed\nDate/Time: Wednesdays\, June 3- July 22\, 11:15am-12pm\nCost/Registration: $55. You must register in advance. \n***This class will be held in-person only*** \nThis class combines a variety of gentle yoga and Tai Chi exercises for stability\, strength\, flexibility\, and balance. The class will include chair and standing exercises.
URL:https://www.goodlifenh.org/activity/natural-balance-8/2026-06-17/
CATEGORIES:Classes
END:VEVENT
BEGIN:VEVENT
DTSTART;TZID=America/New_York:20260618T083000
DTEND;TZID=America/New_York:20260618T093000
DTSTAMP:20260422T185610
CREATED:20260311T192434Z
LAST-MODIFIED:20260311T192434Z
UID:10008114-1781771400-1781775000@www.goodlifenh.org
SUMMARY:Healing Yoga
DESCRIPTION:Instructor: Alethea Kehas\, MFA\, RYT\, RMT\, EM Yoga Foundations Teacher\nDate/Time: Thursdays\, June 11- July 30\, 8:30-9:25am\nCost/Registration: $55. You must register in advance. \n***This class will be held in-person only*** \nAn all-levels\, gentle\, and inclusive yoga class designed to help boost your body’s immune system\, improve balance\, and achieve a greater sense of well-being. Gentle tapping\, meridian tracing\, and self-massage are incorporated with gentle yoga postures and breath-work. This is a mat-based class.
URL:https://www.goodlifenh.org/activity/healing-yoga-38/2026-06-18/
CATEGORIES:Classes
END:VEVENT
BEGIN:VEVENT
DTSTART;TZID=America/New_York:20260618T093000
DTEND;TZID=America/New_York:20260618T103000
DTSTAMP:20260422T185610
CREATED:20260311T193011Z
LAST-MODIFIED:20260311T193011Z
UID:10008132-1781775000-1781778600@www.goodlifenh.org
SUMMARY:Fitness & Core- Thursday
DESCRIPTION:Instructor: Jill Smith\, CPT\nDate/Time: Thursdays\, May 28- July 16\, 9:30-10:25am\nCost/Registration: $55. You must register in advance. \n***This class will be held in-person only*** \nA fitness class for every skill level. This workout focuses on core strength\, flexibility\, and total body conditioning. A perfect mix of body sculpting exercises designed to attain or maintain your healthy physique. You will need to provide weights.
URL:https://www.goodlifenh.org/activity/fitness-core-thursday-40/2026-06-18/
CATEGORIES:Classes
END:VEVENT
BEGIN:VEVENT
DTSTART;TZID=America/New_York:20260618T113000
DTEND;TZID=America/New_York:20260618T123000
DTSTAMP:20260422T185610
CREATED:20260311T193830Z
LAST-MODIFIED:20260311T193830Z
UID:10008147-1781782200-1781785800@www.goodlifenh.org
SUMMARY:Strong for Life
DESCRIPTION:Instructor: Adriana Grillo\, CPT\nDate/Time: Thursdays\, June 4- July 23\, 11:30am- 12:25pm\nCost/Registration: $55. You must register in advance. \n***This class is in-person only*** \nStrong for Life is a total-body\, weight-based class designed to build strength\, stability\, and confidence for everyday living. Using light dumbbells (3–8 lbs). We move from the ground up-starting with the lower body and progressing upward for a balanced\, full-body workout. Each class begins with a gentle warm-up to prepare the joints and muscles\, followed by functional strength exercises that support bone health\, posture\, balance\, and coordination. We finish with a cooldown to improve flexibility and leave you feeling refreshed.
URL:https://www.goodlifenh.org/activity/strong-for-life-3/2026-06-18/
CATEGORIES:Classes
END:VEVENT
BEGIN:VEVENT
DTSTART;TZID=America/New_York:20260618T130000
DTEND;TZID=America/New_York:20260618T134500
DTSTAMP:20260422T185610
CREATED:20260316T161923Z
LAST-MODIFIED:20260316T181632Z
UID:10008296-1781787600-1781790300@www.goodlifenh.org
SUMMARY:Stretch & Strengthen
DESCRIPTION:Instructor: Joe Devito\, CPT\nDate/Time: Mondays & Thursdays\, April- June\, 1-1:45pm (No Class 5/25)\nCost: FREE! Drop-in class for up to 30 people. First come first served.  \n***This class is held in-person and live via Zoom. If you need the Zoom information\, please call GoodLife at 603-228-6630*** \nA great beginner class! Stretch your muscles\, increase your coordination\, self-confidence & flexibility with gentle exercise\, stretching and movement. Build up your strength and get healthy. Older adults of all ages and levels of physical ability are encouraged to try this gentle exercise class. You are welcome to use a chair for stability.
URL:https://www.goodlifenh.org/activity/stretch-strengthen-18/2026-06-18/
CATEGORIES:Classes
END:VEVENT
BEGIN:VEVENT
DTSTART;TZID=America/New_York:20260618T140000
DTEND;TZID=America/New_York:20260618T144500
DTSTAMP:20260422T185610
CREATED:20260316T161627Z
LAST-MODIFIED:20260316T161627Z
UID:10008271-1781791200-1781793900@www.goodlifenh.org
SUMMARY:Chair Yoga
DESCRIPTION:***Time Change***\nInstructor: Cindy Falabella\nDate/Time: Tuesdays & Thursdays\, April- June\, 2-2:45pm\nCost: FREE! Drop-in class for up to 30 people. First come first served.  \n***This class is held in-person and live via Zoom. If you need the Zoom information\, please call GoodLife at 603-228-6630*** \nOlder adults and seniors of all ages\, those with yoga experience or with none\, and all levels of physical ability are encouraged to join us and try this gentle yoga class. Yoga can help your mind\, body and spirit and enhance your quality of life. You are sure to leave calmer\, refreshed and rejuvenated!
URL:https://www.goodlifenh.org/activity/chair-yoga-27/2026-06-18/
CATEGORIES:Classes
END:VEVENT
BEGIN:VEVENT
DTSTART;TZID=America/New_York:20260618T150000
DTEND;TZID=America/New_York:20260618T160000
DTSTAMP:20260422T185610
CREATED:20260312T161808Z
LAST-MODIFIED:20260413T150621Z
UID:10008187-1781794800-1781798400@www.goodlifenh.org
SUMMARY:Indoor Chair Volleyball
DESCRIPTION:***Canceled***\nPresenter: GoodLife\nDate/Time: Thursday\, June 18\, 3- 4pm\nCost/Registration: FREE! You must register in advance. \n***This is an in-person event*** \nIndoor chair volleyball is fun and easy\, plus is good exercise. You will use a beach ball all volleyball rules apply. We need a minimum of 14 to run the class.
URL:https://www.goodlifenh.org/activity/indoor-chair-volleyball-21/
CATEGORIES:Classes
END:VEVENT
BEGIN:VEVENT
DTSTART;TZID=America/New_York:20260618T170000
DTEND;TZID=America/New_York:20260618T180000
DTSTAMP:20260422T185610
CREATED:20260311T194557Z
LAST-MODIFIED:20260311T194557Z
UID:10008162-1781802000-1781805600@www.goodlifenh.org
SUMMARY:Stretching to Destress
DESCRIPTION:Instructor: Alethea Kehas\, MFA\, RYT\, RMT\, EM Yoga Foundations Teacher\nDate/Time: Thursdays\, June 11- July 30\, 5-5:55pm\nCost/Registration: $55. You must register in advance. \n***This class will be held in-person only*** \nA gentle yoga practice focused on stretching your body for greater ease and suppleness\, as well as preparing yourself for rest at the end of the day.
URL:https://www.goodlifenh.org/activity/stretching-to-destress-4/2026-06-18/
CATEGORIES:Classes
END:VEVENT
END:VCALENDAR